BEGIN:VCALENDAR
VERSION:2.0
PRODID:-//Gesund in Liezen - ECPv6.15.18//NONSGML v1.0//EN
CALSCALE:GREGORIAN
METHOD:PUBLISH
X-ORIGINAL-URL:https://gesund-in-liezen.at
X-WR-CALDESC:Veranstaltungen für Gesund in Liezen
REFRESH-INTERVAL;VALUE=DURATION:PT1H
X-Robots-Tag:noindex
X-PUBLISHED-TTL:PT1H
BEGIN:VTIMEZONE
TZID:Europe/Berlin
BEGIN:DAYLIGHT
TZOFFSETFROM:+0100
TZOFFSETTO:+0200
TZNAME:CEST
DTSTART:20240331T010000
END:DAYLIGHT
BEGIN:STANDARD
TZOFFSETFROM:+0200
TZOFFSETTO:+0100
TZNAME:CET
DTSTART:20241027T010000
END:STANDARD
BEGIN:DAYLIGHT
TZOFFSETFROM:+0100
TZOFFSETTO:+0200
TZNAME:CEST
DTSTART:20250330T010000
END:DAYLIGHT
BEGIN:STANDARD
TZOFFSETFROM:+0200
TZOFFSETTO:+0100
TZNAME:CET
DTSTART:20251026T010000
END:STANDARD
BEGIN:DAYLIGHT
TZOFFSETFROM:+0100
TZOFFSETTO:+0200
TZNAME:CEST
DTSTART:20260329T010000
END:DAYLIGHT
BEGIN:STANDARD
TZOFFSETFROM:+0200
TZOFFSETTO:+0100
TZNAME:CET
DTSTART:20261025T010000
END:STANDARD
BEGIN:DAYLIGHT
TZOFFSETFROM:+0100
TZOFFSETTO:+0200
TZNAME:CEST
DTSTART:20270328T010000
END:DAYLIGHT
BEGIN:STANDARD
TZOFFSETFROM:+0200
TZOFFSETTO:+0100
TZNAME:CET
DTSTART:20271031T010000
END:STANDARD
END:VTIMEZONE
BEGIN:VEVENT
DTSTART;TZID=Europe/Berlin:20260423T163000
DTEND;TZID=Europe/Berlin:20260423T180000
DTSTAMP:20260424T143739
CREATED:20260324T115122Z
LAST-MODIFIED:20260324T115122Z
UID:4192-1776961800-1776967200@gesund-in-liezen.at
SUMMARY:Senior:innenyoga in der Großsölk
DESCRIPTION:Sanfte Yogaübungen fördern Beweglichkeit\, Gleichgewicht und Wohlbefinden. Das Senior:innenyoga findet jeden Donnerstag um 16.30 Uhr im Kultursaal Mössna statt. \nInformationen und Anmeldung \n \n  \n 
URL:https://gesund-in-liezen.at/event/seniorinnenyoga-in-der-grosssoelk-8/
END:VEVENT
BEGIN:VEVENT
DTSTART;TZID=Europe/Berlin:20260420T173000
DTEND;TZID=Europe/Berlin:20260420T183000
DTSTAMP:20260424T143739
CREATED:20260220T083438Z
LAST-MODIFIED:20260220T083438Z
UID:4119-1776706200-1776709800@gesund-in-liezen.at
SUMMARY:Gehirntraining mit Life Kinetik®
DESCRIPTION:Life Kinetik® ist ein spielerisches Gehirntraining\, das Bewegung\, Wahrnehmung und Denken miteinander verbindet. Durch ungewohnte Übungen werden Konzentration\, Koordination und geistige Flexibilität gefördert – für mehr Leistungsfähigkeit und Freude im Alltag. Das Angebot richtet sich an alle ab 10 Jahren\, Vorkenntnisse sind nicht erforderlich.
URL:https://gesund-in-liezen.at/event/gehirntraining-mit-life-kinetik-6/
END:VEVENT
BEGIN:VEVENT
DTSTART;TZID=Europe/Berlin:20260420T160000
DTEND;TZID=Europe/Berlin:20260420T170000
DTSTAMP:20260424T143739
CREATED:20260324T115034Z
LAST-MODIFIED:20260324T115034Z
UID:4168-1776700800-1776704400@gesund-in-liezen.at
SUMMARY:Frühling im Bauch - Kraft in der Mitte
DESCRIPTION:Pilateskurs in der Sölk: Stärke deine Körpermitte\, löse Verspannungen und verbessere dein Körpergefühl – ideal für Einsteiger:innen und Fortgeschrittene.
URL:https://gesund-in-liezen.at/event/fruehling-im-bauch-kraft-in-der-mitte-9/
END:VEVENT
BEGIN:VEVENT
DTSTART;TZID=Europe/Berlin:20260416T163000
DTEND;TZID=Europe/Berlin:20260416T180000
DTSTAMP:20260424T143739
CREATED:20260324T115000Z
LAST-MODIFIED:20260324T115000Z
UID:4189-1776357000-1776362400@gesund-in-liezen.at
SUMMARY:Senior:innenyoga in der Großsölk
DESCRIPTION:Sanfte Yogaübungen fördern Beweglichkeit\, Gleichgewicht und Wohlbefinden. Das Senior:innenyoga findet jeden Donnerstag um 16.30 Uhr im Kultursaal Mössna statt. \nInformationen und Anmeldung \n \n  \n 
URL:https://gesund-in-liezen.at/event/seniorinnenyoga-in-der-grosssoelk-7/
END:VEVENT
BEGIN:VEVENT
DTSTART;TZID=Europe/Berlin:20260413T173000
DTEND;TZID=Europe/Berlin:20260413T183000
DTSTAMP:20260424T143739
CREATED:20260220T083345Z
LAST-MODIFIED:20260220T083345Z
UID:4117-1776101400-1776105000@gesund-in-liezen.at
SUMMARY:Gehirntraining mit Life Kinetik®
DESCRIPTION:Life Kinetik® ist ein spielerisches Gehirntraining\, das Bewegung\, Wahrnehmung und Denken miteinander verbindet. Durch ungewohnte Übungen werden Konzentration\, Koordination und geistige Flexibilität gefördert – für mehr Leistungsfähigkeit und Freude im Alltag. Das Angebot richtet sich an alle ab 10 Jahren\, Vorkenntnisse sind nicht erforderlich.
URL:https://gesund-in-liezen.at/event/gehirntraining-mit-life-kinetik-5/
END:VEVENT
BEGIN:VEVENT
DTSTART;TZID=Europe/Berlin:20260409T163000
DTEND;TZID=Europe/Berlin:20260409T180000
DTSTAMP:20260424T143739
CREATED:20260324T114919Z
LAST-MODIFIED:20260324T114919Z
UID:4187-1775752200-1775757600@gesund-in-liezen.at
SUMMARY:Senior:innenyoga in der Großsölk
DESCRIPTION:Sanfte Yogaübungen fördern Beweglichkeit\, Gleichgewicht und Wohlbefinden. Das Senior:innenyoga findet jeden Donnerstag um 16.30 Uhr im Kultursaal Mössna statt. \nInformationen und Anmeldung \n \n  \n 
URL:https://gesund-in-liezen.at/event/seniorinnenyoga-in-der-grosssoelk-6/
END:VEVENT
BEGIN:VEVENT
DTSTART;TZID=Europe/Berlin:20260402T163000
DTEND;TZID=Europe/Berlin:20260402T180000
DTSTAMP:20260424T143739
CREATED:20260324T114826Z
LAST-MODIFIED:20260324T114826Z
UID:4185-1775147400-1775152800@gesund-in-liezen.at
SUMMARY:Senior:innenyoga in der Großsölk
DESCRIPTION:Sanfte Yogaübungen fördern Beweglichkeit\, Gleichgewicht und Wohlbefinden. Das Senior:innenyoga findet jeden Donnerstag um 16.30 Uhr im Kultursaal Mössna statt. \nInformationen und Anmeldung \n \n  \n 
URL:https://gesund-in-liezen.at/event/seniorinnenyoga-in-der-grosssoelk-5/
END:VEVENT
BEGIN:VEVENT
DTSTART;TZID=Europe/Berlin:20260326T163000
DTEND;TZID=Europe/Berlin:20260326T180000
DTSTAMP:20260424T143739
CREATED:20260220T084643Z
LAST-MODIFIED:20260220T084643Z
UID:4133-1774542600-1774548000@gesund-in-liezen.at
SUMMARY:Senior:innenyoga in der Großsölk
DESCRIPTION:Sanfte Yogaübungen fördern Beweglichkeit\, Gleichgewicht und Wohlbefinden. Das Senior:innenyoga findet jeden Donnerstag um 16.30 Uhr im Kultursaal Mössna statt. \nInformationen und Anmeldung \n \n  \n 
URL:https://gesund-in-liezen.at/event/seniorinnenyoga-in-der-grosssoelk-4/
END:VEVENT
BEGIN:VEVENT
DTSTART;TZID=Europe/Berlin:20260326T150000
DTEND;TZID=Europe/Berlin:20260326T170000
DTSTAMP:20260424T143739
CREATED:20260310T112010Z
LAST-MODIFIED:20260310T112037Z
UID:4143-1774537200-1774544400@gesund-in-liezen.at
SUMMARY:Tanz-Café - Musik.  Bewegung. lachen.
DESCRIPTION:Du möchtest in Bewegung bleiben\, Musik genießen und nette Menschen treffen? Dann bist du beim Tanz-Café genau richtig. In entspannter Atmosphäre kannst du tanzen\, plaudern oder einfach die Musik und das Beisammensein genießen.
URL:https://gesund-in-liezen.at/event/tanz-cafe/
END:VEVENT
BEGIN:VEVENT
DTSTART;TZID=Europe/Berlin:20260323T173000
DTEND;TZID=Europe/Berlin:20260323T183000
DTSTAMP:20260424T143739
CREATED:20260220T083306Z
LAST-MODIFIED:20260220T083306Z
UID:4115-1774287000-1774290600@gesund-in-liezen.at
SUMMARY:Gehirntraining mit Life Kinetik®
DESCRIPTION:Life Kinetik® ist ein spielerisches Gehirntraining\, das Bewegung\, Wahrnehmung und Denken miteinander verbindet. Durch ungewohnte Übungen werden Konzentration\, Koordination und geistige Flexibilität gefördert – für mehr Leistungsfähigkeit und Freude im Alltag. Das Angebot richtet sich an alle ab 10 Jahren\, Vorkenntnisse sind nicht erforderlich.
URL:https://gesund-in-liezen.at/event/gehirntraining-mit-life-kinetik-4/
END:VEVENT
BEGIN:VEVENT
DTSTART;TZID=Europe/Berlin:20260319T163000
DTEND;TZID=Europe/Berlin:20260319T180000
DTSTAMP:20260424T143739
CREATED:20260220T084559Z
LAST-MODIFIED:20260220T084559Z
UID:4131-1773937800-1773943200@gesund-in-liezen.at
SUMMARY:Senior:innenyoga in der Großsölk
DESCRIPTION:Sanfte Yogaübungen fördern Beweglichkeit\, Gleichgewicht und Wohlbefinden. Das Senior:innenyoga findet jeden Donnerstag um 16.30 Uhr im Kultursaal Mössna statt. \nInformationen und Anmeldung \n \n  \n 
URL:https://gesund-in-liezen.at/event/seniorinnenyoga-in-der-grosssoelk-3/
END:VEVENT
BEGIN:VEVENT
DTSTART;TZID=Europe/Berlin:20260316T173000
DTEND;TZID=Europe/Berlin:20260316T183000
DTSTAMP:20260424T143739
CREATED:20260220T083045Z
LAST-MODIFIED:20260220T083231Z
UID:4113-1773682200-1773685800@gesund-in-liezen.at
SUMMARY:Gehirntraining mit Life Kinetik®
DESCRIPTION:Life Kinetik® ist ein spielerisches Gehirntraining\, das Bewegung\, Wahrnehmung und Denken miteinander verbindet. Durch ungewohnte Übungen werden Konzentration\, Koordination und geistige Flexibilität gefördert – für mehr Leistungsfähigkeit und Freude im Alltag. Das Angebot richtet sich an alle ab 10 Jahren\, Vorkenntnisse sind nicht erforderlich.
URL:https://gesund-in-liezen.at/event/gehirntraining-mit-life-kinetik-3/
END:VEVENT
BEGIN:VEVENT
DTSTART;TZID=Europe/Berlin:20260312T163000
DTEND;TZID=Europe/Berlin:20260312T180000
DTSTAMP:20260424T143739
CREATED:20260220T084520Z
LAST-MODIFIED:20260220T084520Z
UID:4129-1773333000-1773338400@gesund-in-liezen.at
SUMMARY:Senior:innenyoga in der Großsölk
DESCRIPTION:Sanfte Yogaübungen fördern Beweglichkeit\, Gleichgewicht und Wohlbefinden. Das Senior:innenyoga findet jeden Donnerstag um 16.30 Uhr im Kultursaal Mössna statt. \nInformationen und Anmeldung \n \n  \n 
URL:https://gesund-in-liezen.at/event/seniorinnenyoga-in-der-grosssoelk-2/
END:VEVENT
BEGIN:VEVENT
DTSTART;TZID=Europe/Berlin:20260309T173000
DTEND;TZID=Europe/Berlin:20260309T183000
DTSTAMP:20260424T143739
CREATED:20260220T083005Z
LAST-MODIFIED:20260220T083005Z
UID:4111-1773077400-1773081000@gesund-in-liezen.at
SUMMARY:Gehirntraining mit Life Kinetik®
DESCRIPTION:Life Kinetik® ist ein spielerisches Gehirntraining\, das Bewegung\, Wahrnehmung und Denken miteinander verbindet. Durch ungewohnte Übungen werden Konzentration\, Koordination und geistige Flexibilität gefördert – für mehr Leistungsfähigkeit und Freude im Alltag. Das Angebot richtet sich an alle ab 10 Jahren\, Vorkenntnisse sind nicht erforderlich.
URL:https://gesund-in-liezen.at/event/gehirntraining-mit-life-kinetik-2/
END:VEVENT
BEGIN:VEVENT
DTSTART;TZID=Europe/Berlin:20260306T170000
DTEND;TZID=Europe/Berlin:20260306T220000
DTSTAMP:20260424T143739
CREATED:20260204T115219Z
LAST-MODIFIED:20260204T115441Z
UID:4087-1772816400-1772834400@gesund-in-liezen.at
SUMMARY:Respekt & Raum: betroffen. bewusst. betreut. bestärkt.
DESCRIPTION:Am 06.03.2026 lädt Gesund im Bezirk Liezen gemeinsam mit den Soroptimistinnen Steirisches Ennstal ins ÖHA – Öblarner Haus für Alle.Ein Abend im Zeichen von Respekt\, Achtsamkeit und digitaler Verantwortung – mit spannenden Fachvorträgen\, Podiumsdiskussion und regionalen Unterstützungsangeboten. \nEinlass: 17:00 Uhr | Beginn: 17:30 Uhr \nEintritt frei – keine Anmeldung erforderlich \n\n 
URL:https://gesund-in-liezen.at/event/respekt-und-raum-2/
END:VEVENT
BEGIN:VEVENT
DTSTART;TZID=Europe/Berlin:20260305T163000
DTEND;TZID=Europe/Berlin:20260305T180000
DTSTAMP:20260424T143739
CREATED:20260204T124226Z
LAST-MODIFIED:20260220T084415Z
UID:4103-1772728200-1772733600@gesund-in-liezen.at
SUMMARY:Senior:innenyoga in der Großsölk
DESCRIPTION:Sanfte Yogaübungen fördern Beweglichkeit\, Gleichgewicht und Wohlbefinden. Das Senior:innenyoga findet jeden Donnerstag um 16.30 Uhr im Kultursaal Mössna statt. \nInformationen und Anmeldung \n \n  \n 
URL:https://gesund-in-liezen.at/event/seniorinnenyoga-in-der-grosssoelk/
END:VEVENT
BEGIN:VEVENT
DTSTART;TZID=Europe/Berlin:20260302T173000
DTEND;TZID=Europe/Berlin:20260302T183000
DTSTAMP:20260424T143739
CREATED:20260220T082809Z
LAST-MODIFIED:20260220T082809Z
UID:4108-1772472600-1772476200@gesund-in-liezen.at
SUMMARY:Gehirntraining mit Life Kinetik®
DESCRIPTION:Life Kinetik® ist ein spielerisches Gehirntraining\, das Bewegung\, Wahrnehmung und Denken miteinander verbindet. Durch ungewohnte Übungen werden Konzentration\, Koordination und geistige Flexibilität gefördert – für mehr Leistungsfähigkeit und Freude im Alltag. Das Angebot richtet sich an alle ab 10 Jahren\, Vorkenntnisse sind nicht erforderlich.
URL:https://gesund-in-liezen.at/event/gehirntraining-mit-life-kinetik/
END:VEVENT
BEGIN:VEVENT
DTSTART;TZID=Europe/Berlin:20260219T173000
DTEND;TZID=Europe/Berlin:20260219T200000
DTSTAMP:20260424T143739
CREATED:20260204T120448Z
LAST-MODIFIED:20260204T124322Z
UID:4094-1771522200-1771531200@gesund-in-liezen.at
SUMMARY:Zuckerfrei: 40 Tage für deine Gesundheit
DESCRIPTION:40 Tage – kleine Schritte\, große Wirkung. Die Gesundheits-Challenge unterstützt dich mit täglichen Tipps für einen bewussteren Alltag. \nDie Auftaktveranstaltung findet am 19. Februar um 17.30 Uhr im Pfarrsaal in Irdning statt. \nEintritt frei – keine Anmeldung erforderlich \nInteresse geweckt? Dann melde dich gleich bei Simone an! Klick hier \n40 Tage bewusst leben – mit kleinen Schritten zu mehr Gesundheit und Wohlbefinden.
URL:https://gesund-in-liezen.at/event/zuckerfrei-challenge/
END:VEVENT
BEGIN:VEVENT
DTSTART;TZID=Europe/Berlin:20260219T163000
DTEND;TZID=Europe/Berlin:20260219T180000
DTSTAMP:20260424T143739
CREATED:20260204T123705Z
LAST-MODIFIED:20260204T123711Z
UID:4099-1771518600-1771524000@gesund-in-liezen.at
SUMMARY:Senior:innenyoga in der Großsölk
DESCRIPTION:Sanfte Yogaübungen fördern Beweglichkeit\, Gleichgewicht und Wohlbefinden. Das Senior:innenyoga findet jeden Donnerstag um 16.30 Uhr im Kultursaal Mössna statt. \nInformationen und Anmeldung \n \n  \n 
URL:https://gesund-in-liezen.at/event/seniorinnenyoga/
END:VEVENT
BEGIN:VEVENT
DTSTART;TZID=Europe/Berlin:20260130T180000
DTEND;TZID=Europe/Berlin:20260130T200000
DTSTAMP:20260424T143739
CREATED:20260120T105426Z
LAST-MODIFIED:20260120T105426Z
UID:4068-1769796000-1769803200@gesund-in-liezen.at
SUMMARY:Ich glaub\, mich trifft der Schlag!
DESCRIPTION:Veranstaltung zum Thema Schlaganfall: Warnzeichen erkennen\, Risiken verstehen und aktiv vorbeugen. Mit Neurologin Dr.in Elisabeth Gruber und Internistin Dr.in Bettina Planitzer. Teilnahme kostenlos. \nDetails30. Jänner 2026 I 18:00 Uhr I Mittelschule Stein/Enns \n\nWeitere Informationen zum Projekt
URL:https://gesund-in-liezen.at/event/schlaganfall-erkennen-und-vorbeugen/
ATTACH;FMTTYPE=image/jpeg:https://gesund-in-liezen.at/wp-content/uploads/2026/01/WhatsApp-Image-2026-01-15-at-07.43.25.jpeg
END:VEVENT
BEGIN:VEVENT
DTSTART;TZID=Europe/Berlin:20251204T183000
DTEND;TZID=Europe/Berlin:20251204T200000
DTSTAMP:20260424T143739
CREATED:20251121T084242Z
LAST-MODIFIED:20251121T103849Z
UID:4008-1764873000-1764878400@gesund-in-liezen.at
SUMMARY:Ich glaub\, mich trifft der Schlag! - Infoabend zum Thema Schlaganfall
DESCRIPTION:Veranstaltung zum Thema Schlaganfall: Warnzeichen erkennen\, Risiken verstehen und aktiv vorbeugen. Mit Neurologin Dr.in Elisabeth Gruber und Internistin Dr.in Bettina Planitzer. Teilnahme kostenlos. \nDetails04. Dezember 2025 I 18:30 Uhr I Puttererseehalle Aigen
URL:https://gesund-in-liezen.at/event/ich-glaub-mich-trifft-der-schlag-infoabend-zum-thema-schlaganfall/
ATTACH;FMTTYPE=image/png:https://gesund-in-liezen.at/wp-content/uploads/2025/11/Aigen_Mich-trifft-der-Schlag.png
END:VEVENT
BEGIN:VEVENT
DTSTART;TZID=Europe/Berlin:20251127T170000
DTEND;TZID=Europe/Berlin:20251127T210000
DTSTAMP:20260424T143739
CREATED:20251106T095424Z
LAST-MODIFIED:20251127T070052Z
UID:3972-1764262800-1764277200@gesund-in-liezen.at
SUMMARY:VERSCHOBEN! Orange the World - RESPEKT & RAUM
DESCRIPTION:ACHTUNG! WICHTIGE MITTEILUNG! \nLeider müssen wir unsere Veranstaltung aufgrund der Erkrankung mehrerer Referent:innen absagen. Der Termin wird im März 2026 nachgeholt – wir informieren euch rechtzeitig! \nWICHTIG: Die Hilfs- und Unterstützungsangebote der Region präsentieren wir trotzdem wie geplant im Grimmingsaal im ÖHA. Alle Interessierten sind herzlich willkommen! \nVielen Dank für euer Verständnis – bleibt gesund! \nAm 27. November 2025 lädt Gesund im Bezirk Liezen gemeinsam mit den Soroptimistinnen Steirisches Ennstal ins ÖHA – Öblarner Haus für Alle.Ein Abend im Zeichen von Respekt\, Achtsamkeit und digitaler Verantwortung – mit spannenden Fachvorträgen\, Podiumsdiskussion und regionalen Unterstützungsangeboten. \nEinlass: 17:00 Uhr | Beginn: 18:00 Uhr Eintritt frei – keine Anmeldung erforderlich \nMehr Infos 
URL:https://gesund-in-liezen.at/event/respekt-und-raum/
END:VEVENT
END:VCALENDAR